Workbook
Name AID: [1]Lists!$B$2:$B$5
Name Apr_16: [2]Master!#REF!
Name CDELFTJANFO: '[3]CDEL FT - Jan FO'!$G$12:$I$42
Name CDELFTSEPFO: '[3]CDEL FT - Sept FO'!$F$4:$H$38
Name CDELJANFO: '[3]CDEL Grant - Jan FO'!$G$12:$I$127
Name CDELSEPTFO: '[3]CDEL Grant - Sept FO'!$F$8:$H$113
Name Cities: [1]Lists!$B$6:$B$8
Name DCLG: '[4]Headcount Delegations'!$B$29:$Q$29
Name DEMANDBUDGET: '[3]Danny - Demand led info'!$A$2:$C$18
Name DEMANDLED: '[3]Demand led programmes'!$G$7:$I$23
Name DGPACK: '[3]Challenge Pack - RDEL'!$G$5:$N$241
Name DGPACKCDEL: '[3]CDEL - Budgets '!$G$5:$I$195
Name DGPACKFT: '[3]CDEL FT - Budgets'!$D$4:$L$37
Name Dir: [5]LOOKUP!$D:$E
Name Dropdown: [2]Sheet5!$A$1:$A$3
Name DropdownRAG: [2]Sheet5!$C$1:$C$3
Name dsfsed: '[1]% reductions'!#REF!
Name ERDF: [1]Lists!$B$9:$B$15
Name Finance: [1]Lists!$B$16:$B$27
Name Grade: [5]LOOKUP!$A:$B
Name Housing: [1]Lists!$B$38:$B$51
Name Housing_Supply: [1]Lists!$B$55:$B$59
Name HousingStandards: [1]Lists!$B$38:$B$46
Name HousingSupply: [1]Lists!$B$47:$B$51
Name HS_Planning: [1]Lists!$B$38:$B$54
Name ICR: [1]Lists!$B$52:$B$56
Name IRC: [1]Lists!$B$60:$B$64
Name JANFO: '[3]RDEL - Jan FO'!$H$9:$I$247
Name Leaver: [6]VLOOKUP!$A:$E
Name LEGALCOMMITMENT: '[3]Danny - RDEL info'!$G$9:$L$199
Name LG: [1]Lists!$B$65:$B$81
Name LGFinance: [1]Lists!$B$57:$B$66
Name LGPolicy: [1]Lists!$B$67:$B$81
Name LLT: '[4]Headcount Delegations'!$C$21:$Q$21
Name Localism: '[4]Headcount Delegations'!$C$4:$Q$10
Name Neighbourhoods: '[4]Headcount Delegations'!$C$12:$Q$17
Name NEWCHALL: '[3]Challenge Pack - RDEL'!$G$5:$H$245
Name Other: '[4]Headcount Delegations'!$B$28+'[4]Headcount Delegations'!$D$28:$Q$28:'[4]Headcount Delegations'!$Q$28
Name Planning: [1]Lists!$B$88:$B$95
Name RDEL: '[3]Danny - RDEL info'!$D$5:$AP$200
Name SCPO: [1]Lists!$B$96:$B$108
Name SEPFO: '[3]RDEL - Sept FO'!$G$9:$I$175
Name SPO: '[4]Headcount Delegations'!$C$23:$Q$26
Name Summary: '[1]% reductions'!#REF!
Name TRA: [5]LOOKUP!$J$1:$K$38
Name TroubledFamilies: [1]Lists!$B$109:$B$110

Sheet Table B 
A1: Table B: how DEL funding plans for 2020-21
B3: MHCLG (£ million)
B4: Admin | C4: Programme | D4: Communities Resource DEL total | E4: Local Government Resource DEL | F4: Capital DEL
A6: SR 2020 | B6: 300 | C6: 2000.5 | D6: =SUM(B6:C6) -> 2300.5 | E6: 17470.529 | F6: 7797.65
B8: =SUM(B6:B6) -> 300 | C8: =SUM(C6:C6) -> 2000.5 | D8: =SUM(D6:D6) -> 2300.5 | E8: =SUM(E6:E6) -> 17470.529 | F8: =SUM(F6:F6) -> 7797.65
A10: Additional, new, money awarded since SR 2020:-
A12: Spring Budget 2020
A13: Changing Futures | B13: 0.98 | C13: 17.17 | D13: =SUM(B13:C13) -> 18.15 | F13: 0.75
A14: Place Based Solutions | B14: 0.726 | C14: 1.935 | D14: =SUM(B14:C14) -> 2.661
A16: Spring Budget 2021
A17: Respite Rooms | C17: 1.95 | D17: =SUM(B17:C17) -> 1.95 | F17: 0.15
A18: Capacity Funding for LUP, COF, Freeports | B18: 12.5 | D18: =SUM(B18:C18) -> 12.5
A20: Reserve claims
A21: Rough Sleeping Covid-19 (Omicron) Response Fund | C21: ='Supps Control Totals'!E67 -> 24.9 | D21: =SUM(B21:C21) -> 24.9
A22: Reserve Claim in respect of Covid-19 Additional Relief Fund | E22: 1500
A23: Reserve Claim in respect of New Council tax mearsures | E23: 3061.88
A25: Surrenders
A26: Respite Rooms | B26: ='Supps Control Totals'!B119 -> 0 | C26: ='Supps Control Totals'!E119 -> -0.049 | D26: =SUM(B26:C26) -> -0.049 | F26: ='Supps Control Totals'!I119+'Supps Control Totals'!J119 -> 0
A27: Government Property Agency rental costs | B27: ='Supps Control Totals'!B120 -> -0.762 | C27: ='Supps Control Totals'!E120 -> 0 | D27: =SUM(B27:C27) -> -0.762 | F27: ='Supps Control Totals'!I120+'Supps Control Totals'!J120 -> 0
A28: UK Community Renewal Fund | B28: ='Supps Control Totals'!B121 -> 0 | C28: ='Supps Control Totals'!E121 -> -45 | D28: =SUM(B28:C28) -> -45 | F28: ='Supps Control Totals'!I121+'Supps Control Totals'!J121 -> 0
A29: CDEL Grant Surrenders | B29: ='Supps Control Totals'!B122 -> 0 | C29: ='Supps Control Totals'!E122 -> 0 | D29: =SUM(B29:C29) -> 0 | F29: ='Supps Control Totals'!I122+'Supps Control Totals'!J122 -> -888
A30: CDEL FT Surrenders | B30: ='Supps Control Totals'!B123 -> 0 | C30: ='Supps Control Totals'!E123 -> 0 | D30: =SUM(B30:C30) -> 0 | F30: ='Supps Control Totals'!I123+'Supps Control Totals'!J123 -> -71.605
A33: Estimating, forecasting and reprofiling changes:-
A35: Supplementary Estimate 2020/21 - Budget Exchanges
A36: HCA Housing Supply: Estate Regeneration | F36: 17.909
A37: HCA Home Building Fund: Short Term Iinvestment Fund | F37: 105
A38: HCA Home Building Fund: Long Term Iinvestment Fund | F38: 17.6
A39: Changing Places | F39: 30
A40: Devolution Deals | F40: 45
A41: Towns Regeneration | F41: 20
A42: Housing Infrastructure Fund | F42: 50
A43: Cladding Remediation | F43: 20.437
A44: Local Growth Fund | F44: -46.5
A45: Oxfordshire Housing Deals | F45: 21.25
A46: ACM Remediation | F46: 76
A47: Brownfield Housing Fund | F47: 9.5
... A52: HCA Move On Fund | F52: 6.726
A54: Supplementary Estimate 2021/22 - Budget Exchanges
A55: Housing Flexibilities | F55: ='Supps Control Totals'!I112 -> -500
A56: Budget Exchanges various capital programmes | F56: ='Supps Control Totals'!I113 -> -101
...

Sheet Supps Control Totals
A1: 21/22 Supps Estimate
B2: £m | I2: £m | M2: £m | O2: £m
B3: RDEL Admin | D3: RDEL Admin depn | E3: RDEL programme | F3: RDEL programme depn | G3: TOTAL RDEL | I3: CDEL Grant | J3: CDEL FT | K3: TOTAL | M3: AME | O3: LG DEL
A4: MAINS BUDGET
A5: Budget on OSCAR already
A6: Pre Supps 20/21 reprofiles | G6: =SUM(B6:F6) -> 0 | I6: 36.99 | J6: 267 | K6: =SUM(I6:J6) -> 303.99
A7: Reprofiles at Supps 20/21 | G7: =SUM(B7:F7) -> 0 | I7: 841.013 | J7: 140.509 | K7: =SUM(I7:J7) -> 981.522
A8: PSL reprofile | G8: =SUM(B8:F8) -> 0 | I8: 59.553 | K8: =SUM(I8:J8) -> 59.553
A9: Reserve claims: | G9: =SUM(B9:F9) -> 0 | K9: =SUM(I9:J9) -> 0
A10: Admin - Staff Costs | B10: 0.8
A11: Rough Sleeping - Accomodation | E11: 31 | I11: 95
A12: Rough Sleeping - Substance Misuse | E12: 52
A13: Multiple Complex Needs | E13: 19.2
A14: Devolution Deals | E14: 28.5 | I14: 9.5
A15: Affordable Homes | I15: 2000
A16: Local Growth | I16: 250
A17: Brownfield | I17: 80
G18: =SUM(B18:F18) -> 0 | K18: =SUM(I18:J18) -> 0
A19: Budgets to remove from OSCAR (old reserve claims & reprofiles superseded by SR bid) | G19: =SUM(B19:F19) -> 0 | K19: =SUM(I19:J19) -> 0
A20: Reserve Claims | B20: -0.8 | E20: -130.7 | G20: =SUM(B20:F20) -> -131.5 | I20: -2434.5 | K20: =SUM(I20:J20) -> -2434.5
A21: Pre-Supps reprofiles | G21: =SUM(B21:F21) -> 0 | I21: =-I6 -> -36.99 | J21: =-J6 -> -267 | K21: =SUM(I21:J21) -> -303.99
G22: =SUM(B22:F22) -> 0 | K22: =SUM(I22:J22) -> 0
A23: Revised OSCAR figures | B23: =SUM(B6:B22) -> 0 | D23: =SUM(D6:D22) -> 0 | E23: =SUM(E6:E22) -> 0 | F23: =SUM(F6:F22) -> 0 | G23: =SUM(B23:F23) -> 0 | I23: =SUM(I6:I22) -> 900.566 | J23: =SUM(J6:J22) -> 140.509 | K23: =SUM(I23:J23) -> 1041.075 | M23: =SUM(M6:M22) -> 0
G24: =SUM(B24:F24) -> 0 | I24: 3372
A25: CONTROL TOTAL @ SR20 Settlement Letter - App2 | B25: 300 | D25: 20 | E25: 1800.5 | F25: 7.55 | G25: =SUM(B25:F25) -> 2128.05 | I25: 5008.65 | J25: 2769 | K25: =SUM(I25:J25) -> 7777.65
G26: =SUM(B26:F26) -> 0
A27: UKSPF - agreed at SR | E27: 200 | G27: =SUM(B27:F27) -> 200 | I27: 20 | K27: =SUM(I27:J27) -> 20
G28: =SUM(B28:F28) -> 0 | K28: =SUM(I28:J28) -> 0
A29: Budget measures (March 2021) | G29: =SUM(B29:F29) -> 0 | K29: =SUM(I29:J29) -> 0
A30: Respite Rooms | E30: 1.95 | G30: =SUM(B30:F30) -> 1.95 | I30: 0.15 | K30: =SUM(I30:J30) -> 0.15
A31: Capacity funding for LUF/COF/freeports | B31: 12.5 | G31: =SUM(B31:F31) -> 12.5 | K31: =SUM(I31:J31) -> 0
A33: Shared Outcomes Fund (21/22 allocations) | G33: =SUM(B33:F33) -> 0 | K33: =SUM(I33:J33) -> 0
A34: Changing Futures (formally Multiple Complex Needs) | B34: 0.98 | E34: 17.17 | G34: =SUM(B34:F34) -> 18.15 | I34: 0.75 | K34: =SUM(I34:J34) -> 0.75
A35: Place-based Solutions | B35: 0.726 | E35: 1.935 | G35: =SUM(B35:F35) -> 2.661 | K35: =SUM(I35:J35) -> 0
G36: =SUM(B36:F36) -> 0 | K36: =SUM(I36:J36) -> 0
A37: Total additional measures | B37: =SUM(B29:B36) -> 14.206 | E37: =SUM(E28:E36) -> 21.055 | G37: =SUM(G28:G36) -> 35.261 | I37: =SUM(I28:I36) -> 0.9 | J37: =SUM(J28:J36) -> 0 | K37: =SUM(K28:K36) -> 0.9 | M37: =SUM(M28:M36) -> 0
A39: AME budget - MHCLG | M39: 1695.91
A40: AME budget - LG
A41: LG DEL budget | O41: =17470.529-17470.529 -> 0
A43: Mains Control Totals 21/22 (excluding BCT's) | B43: =B23+B25+B37+B27 -> 314.206 | D43: =D23+D25+D37+D27 -> 20 | E43: =E23+E25+E37+E27 -> 2021.555 | F43: =F23+F25+F37+F27 -> 7.55 | G43: =G23+G25+G37+G27 -> 2363.311 | I43: =I23+I25+I37+I27 -> 5930.116 | J43: =J23+J25+J37+J27 -> 2909.509 | K43: =K23+K25+K37+K27 -> 8839.625 | M43: =M23+M25+M37+M27+M39+M40+M41 -> 1695.91 | O43: =O23+O25+O37+O27+O39+O40+O41 -> 0
...
