Workbook
Name _ftn1: '3.5 WG Trends'!#REF!
Name _ftn2: '3.5 WG Trends'!#REF!
Name _ftn3: '3.5 WG Trends'!#REF!
Name _ftn4: '3.5 WG Trends'!#REF!
Name _ftn5: '3.5 WG Trends'!#REF!
Name _ftn6: '3.5 WG Trends'!#REF!
Name _ftnref3: '3.5 WG Trends'!$B$10

Sheet 3.1 WG CTs
B2: 3.1 Comparison of cash grant payable to the Welsh Consolidated Fund
B4: Spending Total: amounts sought this year | D4: Comparison: Supplementary Estimate 2020-21 | F4: Comparison: Main Estimate 2020-21
B5: Budget Type | C5: Main Estimate 20-21 (£m) | D5: Change (£m) | E5: % change | F5: Change (£m) | G5: % change
B6: Welsh Consolidated Fund: Non-Budget expenditure | C6: ='3.3 (a) Cash Grant'!C36 -> 18249.783 | D6: =C6-20791.153052472 -> -2541.3698 | E6: =D6/C6 -> -0.13925479 | F6: =C6-16430.5890610784 -> 1819.1942 | G6: =F6/C6 -> 0.09968306

Sheet 3.3 (a) Cash Grant
B2: 3.3 (a) Cash grant payable to the Welsh consolidated fund 2021-22
B4: £ million | C4: sub total | E4: Comments:
B5: Welsh block grant (DEL) | C5: ='3.3 (b) Control Totals'!C13 -> 20367.193 | E5: see control totals table
B6: UK government funded AME | C6: ='3.3 (b) Control Totals'!C20 -> 1146.81 | E6: see control totals table
B7: Expenditure funded by Welsh taxes | C7: =-C17-C18-C19 -> 2325.37
B8: Expenditure financed by Capital Borrowing | C8: =-C20 -> 150
B9: Non-Domestic Rates | C9: ='3.3 (b) Control Totals'!C23 -> 1101 | E9: see control totals table
B10: subtotal (TOTAL MANAGED EXPENDITURE) | C10: =SUM(C5:C9) -> 25090.373
B11: NON-VOTED EXPENDITURE:
B12: (1) Less - general:
B13: LA Credit Approvals | C13: -88.8
B14: Other Non-Voted | C14: -6.078
B15: subtotal | C15: =SUM(C13:C14) -> -94.878
B16: (2) less - fiscal framework transactions (Wales Act 2014):
B17: Taxes collected by Welsh government | C17: =-1*SUM('3.3 (b) Control Totals'!C24:C25) -> -263.726 | E17: see control totals table
B18: Repayment of principal of loans | C18: ='3.3 (b) Control Totals'!C28*-1 -> 2.417 | E18: see control totals table
B19: Welsh Rates of Income Tax | C19: ='3.3 (b) Control Totals'!C26*-1 -> -2064.061 | E19: see control totals table
B20: Capital borrowing | C20: ='3.3 (b) Control Totals'!C27*-1 -> -150 | E20: see control totals table
B21: subtotal | C21: =SUM(C17:C20) -> -2475.37
B22: (3) less: non-cash expenditure:
B23: Resource ringfenced non-cash | C23: =-1*SUM('3.3 (b) Control Totals'!C8:C9) -> -1519.9596
B24: Other non-cash to accruals adjustments (UK funded AME-student loans) | C24: -366.605
B25: subtotal | C25: =SUM(C23:C24) -> -1886.5646
B26: VOTED EXPENDITURE:
B27: (1) less - voted receipts:
B28: Non-Domestic Rates income | C28: -1069.958
B29: Contributions from the National Insurance Fund | C29: -1313.819
B30: subtotal | C30: =SUM(C28:C29) -> -2383.777
B31: (2) less - timing adjustments:
B32: Increase / Decrease in Debtors & Creditors | C32: 0
B33: Use of Provisions | C33: 0
B34: Devolved Taxes - time lag in collection of receipts in year 1 | C34: 0
B35: subtotal | C35: =SUM(C32:C34) -> 0
B36: CASH GRANT PAYABLE TO WELSH CONSOLIDATED FUND | C36: =C10+C15+C30+C21+C25+C35 -> 18249.783

Sheet 3.3 (b) Control Totals
B2: 3.3 (b) Control totals for the Welsh Government including breakdown of main programme of AME spending [1]
B4: 1. Welsh Government DEL Control Total
B5: £ millions | C5: 2021-22 | E5: Comments:
B6: Total Resource DEL of which: | C6: =C7+C8+C9 -> 17757.139 | E6: Post block grant adjustments
B7: RDEL excluding depreciation | C7: ='3.4 (a) Resource Changes'!F98 -> 16237.179 | E7: see 3.4 (c) funding changes table
B8: Depreciation and impairments ring fence | C8: ='3.4 (a) Resource Changes'!G98 -> 551.55356 | E8: see 3.4 (c) funding changes table
B9: Student loans ring fence in DEL | C9: ='3.4 (a) Resource Changes'!H98 -> 968.406 | E9: see 3.4 (c) funding changes table
B10: Total Capital DEL of which: | C10: =C11+C12 -> 2610.0543
B11: General CDEL | C11: ='3.4 (b) Capital Changes'!F49 -> 2462.35 | E11: see 3.4 (c) funding changes table
B12: Ring fenced financial transactions | C12: ='3.4 (b) Capital Changes'!G49 -> 147.70435 | E12: see 3.4 (c) funding changes table
B13: Total Welsh block grant allocation | C13: =C10+C6 -> 20367.193 | E13: sum of the above
B15: 2. Welsh Government Annually Managed Expenditure funded by the UK Government
B16: £ millions | C16: 2021-22 | E16: Comments:
B17: Student loans | C17: 820.575 | E17: see 3.4(a) cash grant table
B18: NHS impairments | C18: 56.317 | E18: see 3.4(a) cash grant table
B19: Other | C19: =419.918-150 -> 269.918 | E19: see 3.4(a) cash grant table.
B20: Subtotal | C20: =SUM(C17:C19) -> 1146.81
B21: 3. Self-financed Annually Managed Expenditure
B22: £ millions | C22: 2021-22 | E22: Comments:
B23: Non-Domestic Rates | C23: 1101
B24: Welsh Stamp Duty Land Tax | C24: 230.998 | E24: see 3.4(a) cash grant table
B25: Welsh Landfill Tax | C25: 32.728 | E25: see 3.4(a) cash grant table
B26: Welsh Rates of Income Tax | C26: 2064.061 | E26: see 3.4(a) cash grant table
B27: Welsh Government borrowing | C27: 150 | E27: see 3.4(a) cash grant table
B28: Repayment of principal of loans | C28: -2.417 | E28: see 3.4(a) cash grant table
B29: Subtotal | C29: =SUM(C23:C28) -> 3576.37
B30: TOTAL UKG and Welsh funded AME | C30: =C20+C29 -> 4723.18 | E30: sum of (2) and (3)
B32: [1] Totals may not sum with 3.3(b) due to rounding.

Sheet 3.4 (a) Resource Changes
B2: 3.4 (a) Resource DEL funding changes since Spending Review 2020
F3: Resource DEL excl depreciation | G3: depreciation & impairments | H3: student loans | I3: total Resource DEL
B4: Spending Round 2020 Baseline | F4: 14965.377 | G4: 568.607 | H4: 968.406 | I4: =SUM(F4:H4) -> 16502.39
B6: Barnett consequentials, subsequent to Spending Review 2020 outcome
B7: £ million | E7: Covid-19 | F7: Resource DEL excl depreciation | G7: depreciation & impairments | H7: student loans | I7: total Resource DEL
B8: Spending Review 2020 | F8: 1460.0894 | G8: 0 | H8: 0 | I8: =SUM(F8:H8) -> 1460.0894
B9: subtotal Spending Review 2020 | F9: =SUM(F8) -> 1460.0894 | G9: =SUM(G8) -> 0 | H9: =SUM(H8) -> 0 | I9: =SUM(I8) -> 1460.0894
B10: Budget 2021 | C10: Business rates | D10: Change in Central Share of Business Rate Receipts | F10: 136.37809 | G10: 0 | H10: 0 | I10: =SUM(F10:H10) -> 136.37809
D11: Compensation to Local Government | F11: 222.51162 | G11: 0 | H11: 0 | I11: =SUM(F11:H11) -> 222.51162
C12: Department for Business, Energy & Industrial Strategy | D12: COVID-19 Business Grants | E12: Covid-19 | F12: 247.61155 | G12: 0 | H12: 0 | I12: =SUM(F12:H12) -> 247.61155
D13: Admin for Covid-19 Grants | F13: 0.035289057 | G13: 0 | H13: 0 | I13: =SUM(F13:H13) -> 0.035289057
C14: Ministry of Housing, Communities and Local Government: Communities | D14: Respite Rooms' - Domestic Abuse support | F14: 0.11763019 | G14: 0 | H14: 0 | I14: =SUM(F14:H14) -> 0.11763019
C15: Digital, Culture, Media and Sport | D15: Funding for ALBs impacted by Covid | E15: Covid-19 | F15: 5.2933585 | G15: 0 | H15: 0 | I15: =SUM(F15:H15) -> 5.2933585
D16: Funding to cover costs of delaying Women’s Euros | F16: 0.058815095 | G16: 0 | H16: 0 | I16: =SUM(F16:H16) -> 0.058815095
C17: Department for Education | D17: Catch up: additional funding | E17: Covid-19 | F17: 22.085068 | G17: 0 | H17: 0 | I17: =SUM(F17:H17) -> 22.085068
D18: Extension of Traineeships | F18: 4.8816529 | G18: 0 | H18: 0 | I18: =SUM(F18:H18) -> 4.8816529
D19: Tuition Fee Cap Freeze for 2022/23 | F19: -0.70578114 | G19: 0 | H19: 0 | I19: =SUM(F19:H19) -> -0.70578114
C20: Department of Health and Social Care | D20: Vaccine Deployment | E20: Covid-19 | F20: 97.044907 | G20: 0 | H20: 0 | I20: =SUM(F20:H20) -> 97.044907
B21: subtotal Budget 2021 | F21: =SUM(F10:F20) -> 735.3122 | G21: =SUM(G10:G20) -> 0 | H21: =SUM(H10:H20) -> 0 | I21: =SUM(I10:I20) -> 735.3122
B22: Main Estimates 2021-22 | C22: Cabinet Office | D22: Local Elections - Covid impacts | E22: Covid-19 | F22: 0.88222642 | G22: 0 | H22: 0 | I22: =SUM(F22:H22) -> 0.88222642
D23: By-elections | F23: 0.26466793 | G23: 0 | H23: 0 | I23: =SUM(F23:H23) -> 0.26466793
C24: Department for Education | D24: Additional funding for Traineeships | E24: Covid-19 | F24: 3.393631 | G24: 0 | H24: 0 | I24: =SUM(F24:H24) -> 3.393631
D25: Additional funding for Catch up | E25: Covid-19 | F25: 7.1754416 | G25: 0 | H25: 0 | I25: =SUM(F25:H25) -> 7.1754416
D26: Adjustment from Budget 21: Additional funding for Catch up | E26: Covid-19 | F26: -22.085068 | G26: 0 | H26: 0 | I26: =SUM(F26:H26) -> -22.085068
C27: Department for Environment, Food and Rural Affairs | D27: Zoo Animals Fund Extension | E27: Covid-19 | F27: 0.34348015 | G27: 0 | H27: 0 | I27: =SUM(F27:H27) -> 0.34348015
D28: Green Challenge Recovery Fund | F28: 0.11763019 | G28: 0 | H28: 0 | I28: =SUM(F28:H28) -> 0.11763019
D29: Unlocking housing near protected habitats: the Solent and beyond | F29: 0.047993117 | G29: 0 | H29: 0 | I29: =SUM(F29:H29) -> 0.047993117
D30: Unlocking housing near protected habitats: the Solent and beyond | F30: 0.044464212 | G30: 0 | H30: 0 | I30: =SUM(F30:H30) -> 0.044464212
D31: Green Social Prescribing | F31: 0.057050642 | G31: 0 | H31: 0 | I31: =SUM(F31:H31) -> 0.057050642
D32: Green Social Prescribing | F32: 0.055050929 | G32: 0 | H32: 0 | I32: =SUM(F32:H32) -> 0.055050929
D33: Offshore wind | F33: 0.069107736 | G33: 0 | H33: 0 | I33: =SUM(F33:H33) -> 0.069107736
D34: Trees outside woodlands | F34: 0.020761728 | G34: 0 | H34: 0 | I34: =SUM(F34:H34) -> 0.020761728
C35: Department for Transport | D35: Covid-19 TfL grant | E35: Covid-19 | F35: 29.407547 | G35: 0 | H35: 0 | I35: =SUM(F35:H35) -> 29.407547
D36: Support for passenger rail services (21/22) - additional | E36: Covid-19 | F36: 121.04147 | G36: 0 | H36: 0 | I36: =SUM(F36:H36) -> 121.04147
D37: GPA | F37: 0.077635925 | G37: 0 | H37: 0 | I37: =SUM(F37:H37) -> 0.077635925
C38: Department of Health and Social Care | D38: Covid costs H1 2021-22 | E38: Covid-19 | F38: 389.53137 | G38: 0 | H38: 0 | I38: =SUM(F38:H38) -> 389.53137
D39: Enhanced Discharge covid costs | E39: Covid-19 | F39: 3.4700906 | G39: 0 | H39: 0 | I39: =SUM(F39:H39) -> 3.4700906
D40: Infection Control Fund | E40: Covid-19 | F40: 11.910057 | G40: 0 | H40: 0 | I40: =SUM(F40:H40) -> 11.910057
D41: Shared outcomes fund - out of hospital care fund | E41: Core | F41: 0.77659451 | G41: 0 | H41: 0 | I41: =SUM(F41:H41) -> 0.77659451
D42: Managed Quarantine funding | E42: Covid-19 | F42: 3.2348302 | G42: 0 | H42: 0 | I42: =SUM(F42:H42) -> 3.2348302
...

Sheet 3.4 (b) Capital Changes
B2: 3.4 (b) Capital DEL funding changes since Spending Review 2020
F3: Capital DEL excl financial transactions | G3: financial transactions DEL | H3: total Capital DEL
B4: Spending Round 2020 Baseline | F4: 2195.8458 | G4: 303.90591 | H4: =SUM(F4:G4) -> 2499.7517
B6: Barnett consequentials, subsequent to Spending Review 2020 outcome
B7: £ million | E7: Covid-19 | F7: Capital DEL excl financial transactions | G7: financial transactions DEL | H7: total Capital DEL
B8: Spending Review 2020 | F8: 59.710045 | G8: -191.30196 | H8: =SUM(F8:G8) -> -131.59191
B9: subtotal Spending Review 2020 | F9: =SUM(F8) -> 59.710045 | G9: =SUM(G8) -> -191.30196 | H9: =SUM(H8) -> -131.59191
B10: Budget 2021 | F10: 0 | G10: 0 | H10: =SUM(F10:G10) -> 0
B11: subtotal Budget 2021 | F11: =SUM(F10) -> 0 | G11: =SUM(G10) -> 0 | H11: =SUM(H10) -> 0
B12: Main Estimates 2021-22 | C12: Department for Business, Energy & Industrial Strategy | D12: Green Homes Grant | F12: 17.645528 | G12: 0 | H12: =SUM(F12:G12) -> 17.645528
D13: One Web | F13: 0 | G13: -0.23408889 | H13: =SUM(F13:G13) -> -0.23408889
C14: Department for Environment, Food and Rural Affairs | D14: Green Challenge Recovery Fund | F14: -0.11399035 | G14: 0 | H14: =SUM(F14:G14) -> -0.11399035
D15: Unlocking housing near protected habitats: the Solent and beyond | F15: 0.019997132 | G15: 0 | H15: =SUM(F15:G15) -> 0.019997132
D16: Offshore wind | F16: 0.074989246 | G16: 0 | H16: =SUM(F16:G16) -> 0.074989246
D17: Trees outside woodlands | F17: 0.044111321 | G17: 0 | H17: =SUM(F17:G17) -> 0.044111321
D18: Solent Loan | F18: 0 | G18: 0.33524604 | H18: =SUM(F18:G18) -> 0.33524604
C19: Department for Work and Pensions | D19: Fraud and Error Prevention Package | F19: 0 | G19: 0 | H19: =SUM(F19:G19) -> 0
D20: Surrender on Pensions Dashboard (MAPS) | F20: 0 | G20: 0 | H20: =SUM(F20:G20) -> 0
C21: Digital, Culture, Media and Sport | D21: Local cultural infrastructure projects | F21: 1.1057238 | G21: 0 | H21: =SUM(F21:G21) -> 1.1057238
D22: Sports Winter Support Package and Cultural Sectors Support Package | E22: Covid-19 | F22: 0 | G22: 9.4692303 | H22: =SUM(F22:G22) -> 9.4692303
C23: HM Revenue and Customs | D23: Digital Business Rates Programme | F23: 0.21173434 | G23: 0 | H23: =SUM(F23:G23) -> 0.21173434
C24: Home Office | D24: Shared Outcome Fund - Project Adder: Drug Strategy | F24: 0 | G24: 0 | H24: =SUM(F24:G24) -> 0
C25: Ministry of Housing, Communities and Local Government: Communities | D25: Adjustment: Domestic Abuse 'Respite Rooms' | F25: 0.0088222642 | G25: 0 | H25: =SUM(F25:G25) -> 0.0088222642
D26: Changing Futures (Formally Multiple Complex Needs - Shared Outcomes Fund) | F26: 0.044111321 | G26: 0 | H26: =SUM(F26:G26) -> 0.044111321
C27: Department for Transport | D27: Government Property Agency (GPA) | F27: 1.4821404 | G27: 0 | H27: =SUM(F27:G27) -> 1.4821404
B28: subtotal Main Estimates 2021-22 | F28: =SUM(F12:F27) -> 20.523168 | G28: =SUM(G12:G27) -> 9.5703874 | H28: =SUM(H12:H27) -> 30.093555
B29: sub-total BARNETT CONSEQUENTIAL CHANGES (included within December 2018 block grant transparency data document) | F29: =F11+F28+F9 -> 80.233213 | G29: =G11+G28+G9 -> -181.73157 | H29: =H11+H28+H9 -> -101.49835
B31: Other non-Barnett allocations, subsequent to Spending Review 2020 outcome
B32: Spending Review 2020 | F32: 0 | G32: 0 | H32: 0
B33: Subtotal, SPENDING REVIEW 2020 | F33: =SUM(F32:F32) -> 0 | G33: =SUM(G32:G32) -> 0 | H33: =SUM(H32:H32) -> 0
B34: Main Estimates 2021-22 | C34: Supplementary Estimates 2020-21 Carry forward | F34: 137.13 | G34: 25.53 | H34: =SUM(F34:G34) -> 162.66
C35: SR20 Barnett Correction - Ministry of Justice | F35: 0.401 | G35: 0 | H35: =SUM(F35:G35) -> 0.401
C36: SR20 Barnett Correction - Home Office | F36: 0.13 | G36: 0 | H36: =SUM(F36:G36) -> 0.13
C37: Salix Reprofile from Supps 20-21 to Mains 21-22 | F37: 16 | G37: 0 | H37: =SUM(F37:G37) -> 16
C38: City Deal - Cardiff | F38: 22 | G38: 0 | H38: =SUM(F38:G38) -> 22
C39: City Deal - North Wales | F39: 8 | G39: 0 | H39: =SUM(F39:G39) -> 8
C40: City Deal - Mid Wales | F40: 3.667 | G40: 0 | H40: =SUM(F40:G40) -> 3.667
C41: City Deal - Swansea Bay | F41: 7.633 | G41: 0 | H41: =SUM(F41:G41) -> 7.633
B42: Subtotal, MAIN ESTIMATES 2021-22 | F42: =SUM(F34:F41) -> 194.961 | G42: =SUM(G34:G41) -> 25.53 | H42: =SUM(H34:H41) -> 220.491
B43: Budget transfers | C43: Digital, Culture, Media and Sport | D43: Nature Networks Fund | F43: -8.3 | G43: 0 | H43: =SUM(F43:G43) -> -8.3
...

Sheet 3.5 WG Trends
B2: 3.5 Welsh Government Funding 2017-18 to 2021-22
C4: 2017-18 | D4: 2018-19 | E4: 2019-20 | F4: 2020-21 | G4: 2021-22
B5: £m[1] | C5: Outturn | D5: Outturn | E5: Outturn | F5: Plans [4] [5] | G5: Plans
B6: Welsh Government Resource DEL (pre block grant adjustments) | C6: =C8-C7 -> 14001.757 | D6: =D8-D7 -> 14279.27 | E6: 15300.576 | F6: =F8-F7 -> 21814.314 | G6: =G8-G7 -> 20112.976
B7: Tax Block Grant Adjustment | C7: 0 | D7: -268.374 | E7: -2441.8927 | F7: -2353.369 | G7: ='3.4 (a) Resource Changes'!F94 -> -2355.8374
B8: Welsh Government Resource DEL | C8: 14001.757 | D8: 14010.896 | E8: 12858.683 | F8: 19460.945 | G8: ='3.4 (a) Resource Changes'!I98 -> 17757.139
B9: Welsh Government Capital DEL | C9: 1821.285 | D9: 2036.807 | E9: 2131.16 | F9: 3151.2644 | G9: ='3.4 (b) Capital Changes'!H49 -> 2610.0543
B10: Welsh Government Resource DEL plus Capital DEL [2] | C10: =C8+C9 -> 15823.042 | D10: =D8+D9 -> 16047.703 | E10: 14989.843 | F10: =SUM(F8:F9) -> 22612.209 | G10: =SUM(G8:G9) -> 20367.193
B11: less depreciation & impairments | C11: -708.262 | D11: -703.761 | E11: -768.478 | F11: -1537.0138 | G11: =SUM('3.4 (a) Resource Changes'!G98:H98)*-1 -> -1519.9596
B12: Total Welsh Government DEL[3] | C12: =C10+C11 -> 15114.78 | D12: =D10+D11 -> 15343.942 | E12: 14221.365 | F12: =F10+F11 -> 21075.195 | G12: =G10+G11 -> 18847.233
B14: [1] Totals may not sum due to rounding
B15: [2] Including depreciation and impairments
B16: [3] Total DEL = Resource + capital – (depreciation & impairments)
B17: [4] 2020-21 outurn has yet to be finalised.
B18: [5] As set out in the Written Ministerial Statement of 24 March 2021, 2020-21 funding has been revised down since Supplementary Estimates 2020-21 to reflect the carry forward of funding from 2020-21 in to 2021-22. This funding is included in 2021-22 plans.

Sheet BGT
B1: Table 1.2 Welsh Government block grant funding for the Spending Review 2015 period (£ million)¹
C2: £ million
B3: DEL changes by department and measure
C4: 2020-21
B5: SPENDING REVIEW 2015 OUTCOME
B6: Resource DEL | C6: -
B7: Capital DEL | C7: 1649.1464
B8: Capital DEL Financial Transactions | C8: 84.310299
B9: Total Spending Review Settlement | C9: 1733.4567
B11: BUDGET 2016
B12: Total DEL change Budget 2016 | C12: -
B14: MAIN ESTIMATES 2016-17
B15: Total Resource DEL in-year changes | C15: -
B16: Total Capital DEL in-year changes | C16: 0
B17: Total DEL in-year changes Main Estimates 2016-17 | C17: 0
B19: AUTUMN STATEMENT 2016
B20: Capital DEL change by department and measure
B21: Total Barnett Consequentials | C21: 133.64352
B22: Business, Energy & Industrial Strategy | C22: 6.1803238
B23: Tech Transfer | C23: 1.415
B24: Quality-related Research funding | C24: 4.7653238
B25: Communities & Local Government | C25: 93.107
B26: Accelerated construction | C26: 18.112
B27: Affordable housing | C27: 7.075
B28: Housing Infrastructure Fund | C28: 67.92
B29: Culture, Media & Sport | C29: 0.3962
B30: 2021 Rugby League World Cup | C30: 0.1415
B31: Cycling Road World Championships | C31: 0.2547
B32: Education | C32: 2.83
... B37: Total Capital DEL change Autumn Statement 2016 | C37: 133.64352
B38: Capital DEL Financial Transactions change
B39: Total Barnett Consequentials | C39: 1.193128
B40: Business, Energy & Industrial Strategy
B41: Midlands Engine Investment Fund | C41: 0.966728
B42: Northern Power House: Investment Fund | C42: 0.2264
B43: Total Capital DEL Financial Transactions change Autumn Statement 2016 | C43: 1.193128
B44: Total DEL change Budget 2016 | C44: 134.83665
B46: SPRING BUDGET 2017
B47: Capital DEL change by department and measure
B48: Total Barnett Consequentials | C48: -
...
