Workbook
Name _DAT14: #REF!
Name _DAT2: #REF!
Name _DAT3: #REF!
Name _DAT4: #REF!
Name _DAT5: #REF!
Name _DAT6: #REF!
Name _DAT7: #REF!
Name _DAT8: #REF!
Name _DAT9: #REF!
Name AC: #REF!
Name AC: #REF!
Name AC_Codes: #REF!
Name AccLevel6: OFFSET(AccLvl6,0,0,COUNTA(AccLvl6),1)
Name AccLevel6: OFFSET(AccLvl6,0,0,COUNTA(AccLvl6),1)
Name AccLevel6: OFFSET(AccLvl6,0,0,COUNTA(AccLvl6),1)
Name Account_Codes: #REF!
Name AccountType: #REF!
Name AcType: #REF!
Name Admin: #REF!
Name AMEC: #REF!
Name AMENC: #REF!
Name ARID_Directorates: #REF!
Name ARID_Priority: #REF!
Name ARID_Status: #REF!
Name Associated_Category: #REF!
Name BalancingAdjustment: #REF!
Name Business_Unit_4: #REF!
Name CAME: #REF!
Name CC_Code: #REF!
Name CC_Codes: #REF!
Name CDEL: #REF!
Name CDEL_GEN_FT: #REF!
Name Change_type: #REF!
Name codes: #REF!
Name codes: #REF!
Name codes: #REF!
Name Commands: #REF!
Name Company: #REF!
Name cont: #REF!
Name Contingecies: #REF!
Name Controltotal1: #REF!
Name Cost: #REF!
Name CostCentresList: OFFSET(CostCentres,0,0,COUNTA(CostCentres),1)
Name CostCentresList: OFFSET(CostCentres,0,0,COUNTA(CostCentres),1)
Name CostCentresList: OFFSET(CostCentres,0,0,COUNTA(CostCentres),1)
Name CostCentresv5: OFFSET(CostCentrev5,0,0,COUNTA(CostCentrev5)-COUNTBLANK(CostCentrev5))
Name CostCentresv5: OFFSET(CostCentrev5,0,0,COUNTA(CostCentrev5)-COUNTBLANK(CostCentrev5))
Name CostCentresv5: OFFSET(CostCentrev5,0,0,COUNTA(CostCentrev5)-COUNTBLANK(CostCentrev5))
Name CountryCode: "OFFSET($B$1,0,0,COUNT($B:$B),1)"
Name CoverAssupmtion: #REF!
Name Criteria1_FTEs: #REF!
Name Criteria2_FTEcost: #REF!
Name DirCode: #REF!
Name Directorates: #REF!
Name DLOV_oracle_apps_financials_generalLedger_journals_desktopEntry_di_FinGlDesktopMultibatchEntryPageDef_PeriodName_LedgerId_0: #REF!
Name DLOV_oracle_apps_financials_generalLedger_journals_desktopEntry_di_FinGlDesktopMultibatchEntryPageDef_ReversalPeriodName_LedgerId_0: #REF!
Name Economic_Budget: #REF!
Name EIGHT: #REF!
Name EmptyList: #REF!
Name Exp_New_Bus_Unit: #REF!

Sheet Table A(i)-SE
B1: Table A | C1: 2025-26 Supplementary Estimates
B3: Table A (i) Departmental Expenditure Limits (DELs)
B4: Subheads | C4: Description | D4: Programme | E4: Resource | J4: Capital
E5: This year (Supplementary Estimates budget sought) | F5: This year (Main Estimates budget approved) | G5: Change from this year's Main Estimates | J5: =E5 -> This year (Supplementary Estimates budget sought) | K5: =F5 -> This year (Main Estimates budget approved) | L5: =G5 -> Change from this year's Main Estimates
F6: £m | H6: % | K6: £m | M6: %
B7: A, B, C, D, | C7: Policy | D7: Public Safety: Police Settlement | E7: 12038.4 | F7: 12026.8 | G7: =E7-F7 -> 11.6 | H7: =IFERROR(G7/F7,0) -> 0.00096451259 | J7: 123.1 | K7: 123.1 | L7: =J7-K7 -> 0 | M7: =IFERROR(L7/K7,0) -> 0
D8: Public Safety: Other | E8: 594 | F8: 820.3 | G8: =E8-F8 -> -226.3 | H8: =IFERROR(G8/F8,0) -> -0.27587468 | J8: 458.9 | K8: 512.1 | L8: =J8-K8 -> -53.2 | M8: =IFERROR(L8/K8,0) -> -0.10388596
D9: Homeland Security Core Operations | E9: 1453.7 | F9: 1444 | G9: =E9-F9 -> 9.7 | H9: =IFERROR(G9/F9,0) -> 0.0067174515 | J9: 221.6 | K9: 220.8 | L9: =J9-K9 -> 0.8 | M9: =IFERROR(L9/K9,0) -> 0.0036231884
D10: Migration and Borders | E10: 328.3 | F10: 295.9 | G10: =E10-F10 -> 32.4 | H10: =IFERROR(G10/F10,0) -> 0.10949645 | J10: 150.5 | K10: 151.2 | L10: =J10-K10 -> -0.7 | M10: =IFERROR(L10/K10,0) -> -0.0046296296
D11: Border Security Command | E11: 215.7 | F11: 160.9 | G11: =E11-F11 -> 54.8 | H11: =IFERROR(G11/F11,0) -> 0.34058421 | J11: 33.4 | K11: 14 | L11: =J11-K11 -> 19.4 | M11: =IFERROR(L11/K11,0) -> 1.3857143
B13: A, B, C | C13: sub total | E13: =SUM(E7:E12) -> 14630.1 | F13: =SUM(F7:F12) -> 14747.9 | G13: =E13-F13 -> -117.8 | H13: =IFERROR(G13/F13,0) -> -0.0079875779 | J13: =SUM(J7:J12) -> 987.5 | K13: =SUM(K7:K12) -> 1021.2 | L13: =J13-K13 -> -33.7 | M13: =IFERROR(L13/K13,0) -> -0.033000392
B15: E, F, G, H | C15: Operations | D15: Customer Service Core Operations | E15: 2012.1 | F15: 1984.5 | G15: =E15-F15 -> 27.6 | H15: =IFERROR(G15/F15,0) -> 0.013907785 | J15: 80.8 | K15: 114.4 | L15: =J15-K15 -> -33.6 | M15: =IFERROR(L15/K15,0) -> -0.29370629
D16: Income from core Visa Operations | E16: -3508.6 | F16: -3869.9 | G16: =E16-F16 -> 361.3 | H16: =IFERROR(G16/F16,0) -> -0.093361586 | J16: 0 | K16: 0 | L16: =J16-K16 -> 0 | M16: =IFERROR(L16/K16,0) -> 0
D17: Income from Immigration Health Surcharge/Skills Charge | E17: -2331.2 | F17: -1230.3 | G17: =E17-F17 -> -1100.9 | H17: =IFERROR(G17/F17,0) -> 0.8948224 | J17: 0 | K17: 0 | L17: =J17-K17 -> 0 | M17: =IFERROR(L17/K17,0) -> 0
D18: Income from Passport, Citizenship and Registration | E18: -1087.3 | F18: -725.9 | G18: =E18-F18 -> -361.4 | H18: =IFERROR(G18/F18,0) -> 0.49786472 | J18: 0 | K18: 0 | L18: =J18-K18 -> 0 | M18: =IFERROR(L18/K18,0) -> 0
D19: Asylum Support, Resettlement and Accommodation (ASRA): Asylum Support | E19: 3588 | F19: 3588 | G19: =E19-F19 -> 0 | H19: =IFERROR(G19/F19,0) -> 0 | J19: 0 | K19: 0 | L19: =J19-K19 -> 0 | M19: =IFERROR(L19/K19,0) -> 0
D20: ASRA: UK Resettlement Schemes (including Afghanistan & Syria) | E20: 386.9 | F20: 399.3 | G20: =E20-F20 -> -12.4 | H20: =IFERROR(G20/F20,0) -> -0.031054345 | J20: 0 | K20: 0 | L20: =J20-K20 -> 0 | M20: =IFERROR(L20/K20,0) -> 0
D21: ASRA: Accommodation Programme | E21: 154.2 | F21: 160.7 | G21: =E21-F21 -> -6.5 | H21: =IFERROR(G21/F21,0) -> -0.04044804 | J21: 75 | K21: 75 | L21: =J21-K21 -> 0 | M21: =IFERROR(L21/K21,0) -> 0
D22: ASRA: Other | E22: 201.9 | F22: 201 | G22: =E22-F22 -> 0.9 | H22: =IFERROR(G22/F22,0) -> 0.0044776119 | J22: 34.6 | K22: 34.6 | L22: =J22-K22 -> 0 | M22: =IFERROR(L22/K22,0) -> 0
D23: Border Force Core Operations | E23: 1363 | F23: 1322.4 | G23: =E23-F23 -> 40.6 | H23: =IFERROR(G23/F23,0) -> 0.030701754 | J23: 148.8 | K23: 179 | L23: =J23-K23 -> -30.2 | M23: =IFERROR(L23/K23,0) -> -0.16871508
D24: Immigration Enforcement Core Operations | E24: 719.6 | F24: 716.7 | G24: =E24-F24 -> 2.9 | H24: =IFERROR(G24/F24,0) -> 0.0040463234 | J24: 162.5 | K24: 171.8 | L24: =J24-K24 -> -9.3 | M24: =IFERROR(L24/K24,0) -> -0.054132712
C26: sub total | E26: =SUM(E15:E25) -> 1498.6 | F26: =SUM(F15:F25) -> 2546.5 | G26: =E26-F26 -> -1047.9 | H26: =IFERROR(G26/F26,0) -> -0.41150599 | J26: =SUM(J15:J25) -> 501.7 | K26: =SUM(K15:K25) -> 574.8 | L26: =J26-K26 -> -73.1 | M26: =IFERROR(L26/K26,0) -> -0.12717467
B28: I, J, L | C28: Enabling Functions | D28: Chief Operating Officer Group | E28: 1209.8 | F28: =1160.6+13.7 -> 1174.3 | G28: =E28-F28 -> 35.5 | H28: =IFERROR(G28/F28,0) -> 0.030230776 | J28: 2.5 | K28: -450.5 | L28: =J28-K28 -> 453 | M28: =IFERROR(L28/K28,0) -> -1.0055494
D29: Estates | E29: 220.4 | F29: 221.2 | G29: =E29-F29 -> -0.8 | H29: =IFERROR(G29/F29,0) -> -0.0036166365 | J29: 68.8 | K29: 159.2 | L29: =J29-K29 -> -90.4 | M29: =IFERROR(L29/K29,0) -> -0.5678392
D30: Home Office Digital Core Operations | E30: 646.9 | F30: 642.4 | G30: =E30-F30 -> 4.5 | H30: =IFERROR(G30/F30,0) -> 0.0070049813 | J30: 90.5 | K30: 108.6 | L30: =J30-K30 -> -18.1 | M30: =IFERROR(L30/K30,0) -> -0.16666667
D31: Legal | E31: 18.5 | F31: 18.5 | G31: =E31-F31 -> 0 | H31: =IFERROR(G31/F31,0) -> 0 | J31: 0 | K31: 0 | L31: =J31-K31 -> 0 | M31: =IFERROR(L31/K31,0) -> 0
K32: 0
C33: sub total | E33: =SUM(E28:E32) -> 2095.6 | F33: =SUM(F28:F32) -> 2056.4 | G33: =SUM(G28:G32) -> 39.2 | H33: =IFERROR(G33/F33,0) -> 0.019062439 | J33: =SUM(J28:J32) -> 161.8 | K33: =SUM(K28:K32) -> -182.7 | L33: =SUM(L28:L32) -> 344.5 | M33: =IFERROR(L33/K33,0) -> -1.8856048
B35: K | C35: Strategy Functions | D35: Science, Technology, Analysis & Research | E35: 45.4 | F35: 106.4 | G35: =E35-F35 -> -61 | H35: =IFERROR(G35/F35,0) -> -0.57330827 | J35: 55.3 | K35: 54.4 | L35: =J35-K35 -> 0.9 | M35: =IFERROR(L35/K35,0) -> 0.016544118
C37: sub total | E37: =SUM(E34:E35) -> 45.4 | F37: =SUM(F34:F35) -> 106.4 | G37: =SUM(G34:G35) -> -61 | H37: =IFERROR(G37/F37,0) -> -0.57330827 | J37: =SUM(J34:J35) -> 55.3 | K37: =SUM(K34:K35) -> 54.4 | L37: =SUM(L34:L35) -> 0.9 | M37: =IFERROR(L37/K37,0) -> 0.016544118
B38: M | C38: Arms Length Bodies | D38: Core Operations | E38: 144.2 | F38: 133.9 | G38: =E38-F38 -> 10.3 | H38: =IFERROR(G38/F38,0) -> 0.076923077 | J38: 12.4 | K38: 12.8 | L38: =J38-K38 -> -0.4 | M38: =IFERROR(L38/K38,0) -> -0.03125
C40: sub total | E40: =SUM(E38:E39) -> 144.2 | F40: =SUM(F38:F39) -> 133.9 | G40: =E40-F40 -> 10.3 | H40: =IFERROR(G40/F40,0) -> 0.076923077 | J40: =SUM(J38:J39) -> 12.4 | K40: =SUM(K38:K39) -> 12.8 | L40: =J40-K40 -> -0.4 | M40: =IFERROR(L40/K40,0) -> -0.03125
B42: N | C42: Departmental Unallocated Provision | D42: Other | E42: 0 | F42: 133.3 | G42: =E42-F42 -> -133.3 | H42: =IFERROR(G42/F42,0) -> -1 | J42: 0 | K42: 0 | L42: =J42-K42 -> 0 | M42: =IFERROR(L42/K42,0) -> 0
C44: sub total | E44: =SUM(E42:E43) -> 0 | F44: =SUM(F42:F43) -> 133.3 | G44: =E44-F44 -> -133.3 | H44: =IFERROR(G44/F44,0) -> -1 | J44: =SUM(J42:J43) -> 0 | K44: =SUM(K42:K43) -> 0 | L44: =J44-K44 -> 0 | M44: =IFERROR(L44/K44,0) -> 0
C46: Total voted and non voted | E46: =E13+E26+E33+E37+E40+E44 -> 18413.9 | F46: =F13+F26+F33+F37+F40+F44 -> 19724.4 | G46: =E46-F46 -> -1310.5 | H46: =IFERROR(G46/F46,0) -> -0.066440551 | J46: =J13+J26+J33+J37+J40+J44 -> 1718.7 | K46: =K13+K26+K33+K37+K40+K44 -> 1480.5 | L46: =J46-K46 -> 238.2 | M46: =IFERROR(L46/K46,0) -> 0.16089159

Sheet Table A(ii)-SE
B1: ='Table A(i)-SE'!B1 -> Table A | C1: ='Table A(i)-SE'!C1 -> 2025-26 Supplementary Estimates
B3: Table A (ii) AME budgets | I3: Table A (ii) AME budgets
B4: Subheads | C4: Description | D4: Resource | I4: Subheads | J4: Description | K4: Capital
D5: ='Table A(i)-SE'!J5 -> This year (Supplementary Estimates budget sought) | E5: ='Table A(i)-SE'!K5 -> This year (Main Estimates budget approved) | F5: ='Table A(i)-SE'!L5 -> Change from this year's Main Estimates | K5: =D5 -> This year (Supplementary Estimates budget sought) | L5: =E5 -> This year (Main Estimates budget approved) | M5: =F5 -> Change from this year's Main Estimates
E6: £m | G6: % | L6: £m | N6: %
B7: N | C7: Police and Fire Superannuation | D7: 2261.3 | E7: 2972.2 | F7: =D7-E7 -> -710.9 | G7: =F7/E7 -> -0.2391831 | I7: O | J7: Estates Dilapidation Costs: IFRS16 | K7: 60 | L7: 0 | M7: =K7-L7 -> 60 | N7: =IFERROR(M7/L7,0) -> 0
I8: P | J8: ALB Dilapidations | K8: 0.1 | L8: 0 | M8: =K8-L8 -> 0.1 | N8: =IFERROR(M8/L8,0) -> 0
C9: sub total | D9: =SUM(D7:D8) -> 2261.3 | E9: =SUM(E7:E8) -> 2972.2 | F9: =D9-E9 -> -710.9 | G9: =F9/E9 -> -0.2391831
J10: sub total | K10: =SUM(K7:K9) -> 60.1 | L10: =SUM(L7:L9) -> 0 | M10: =K10-L10 -> 60.1 | N10: =IFERROR(M10/L10,0) -> 0
B11: O | C11: Major Law Enforcement Motorola Provision | D11: 13.5 | E11: 0 | F11: =D11-E11 -> 13.5 | G11: =IFERROR(F11/E11,0) -> 0
C12: Legal and Compensation Provisions | D12: 180 | E12: 0 | F12: =D12-E12 -> 180 | G12: =IFERROR(F12/E12,0) -> 0 | J12: total voted and non voted | K12: =K10 -> 60.1 | L12: =L10 -> 0 | M12: =K12-L12 -> 60.1 | N12: =IFERROR(M12/L12,0) -> 0
C13: Police National Database | D13: 28 | E13: 0 | F13: =D13-E13 -> 28 | G13: =IFERROR(F13/E13,0) -> 0
C14: sub total | D14: =SUM(D11:D13) -> 221.5 | E14: =SUM(E11:E13) -> 0 | F14: =D14-E14 -> 221.5 | G14: =IFERROR(F14/E14,0) -> 0
C16: total voted and non voted | D16: =SUM(D14,D9) -> 2482.8 | E16: =SUM(E14,E9) -> 2972.2 | F16: =D16-E16 -> -489.4 | G16: =F16/E16 -> -0.16465918

Sheet Table B
A1: Table B: how DEL funding plans for 2025-26 have altered since Spending Review 2025
B3: Home Office | E3: £ million
B4: Admin | C4: Prog | D4: Resource DEL Total | E4: Capital DEL
A6: DEL baseline for SR2025 (2025-26) | B6: 488 | C6: 20093.7 | D6: =SUM(B6:C6) -> 20581.7 | E6: 1506
A7: SR2025 addition: ring fenced depreciation | B7: 24 | C7: 747.416 | D7: =SUM(B7:C7) -> 771.416 | E7: 0
A8: Spending Review outcome | B8: =SUM(B6:B7) -> 512 | C8: =SUM(C6:C7) -> 20841.116 | D8: =SUM(D6:D7) -> 21353.116 | E8: =SUM(E6:E7) -> 1506
A10: adjustments to reflect Estimates treatment
A13: Spending Review total on Estimates basis | B13: =SUM(B8:B12) -> 512 | C13: =SUM(C8:C12) -> 20841.116 | D13: =SUM(D8:D12) -> 21353.116 | E13: =SUM(E8:E12) -> 1506
A15: Additional, new, money awarded since SR2025:-
A18: Autumn Budget 2024
A19: Employer National Insurance Contribution | C19: 255.9 | D19: =SUM(B19:C19) -> 255.9
A20: Retail Crime Funding | C20: 2.4 | D20: =SUM(B20:C20) -> 2.4
A22: Mains 2025
A23: Economic Crime Levy | C23: 2.7 | D23: =SUM(B23:C23) -> 2.7 | E23: 6.3
A25: Budget 2025 Subtotal | B25: =SUM(B18:B24) -> 0 | C25: =SUM(C18:C24) -> 261 | D25: =SUM(D18:D24) -> 261 | E25: =SUM(E18:E24) -> 6.3
A27: Estimating, forecasting and reprofiling changes:-
A29: Budget Exchanges and Surrenders
A30: Afghanistan Resettlement Schemes | C30: 57 | D30: =SUM(B30:C30) -> 57
A31: Projects and Programmes | E31: 99
A33: Neutral funding changes between departments:-
A35: Machinery of government changes:-
A38: Other funding transfers:-
A39: Afghanistan Resettlement Schemes from FCDO | C39: 20 | D39: =SUM(B39:C39) -> 20
A40: Joint Maritime Security Centre (JMSC) from DfT | C40: 14 | D40: =SUM(B40:C40) -> 14
A41: Investigatory Powers Commissioner’s Office from FCDO | C41: 1.6 | D41: =SUM(B41:C41) -> 1.6
A42: Immigration Health Surcharge to DHSC and Devolved Governments | C42: -1064.6 | D42: =SUM(B42:C42) -> -1064.6
A43: SR25 Baseline Transfer to NCA | B43: -44 | C43: -557 | D43: =SUM(B43:C43) -> -601 | E43: -109
A44: Fire Pensions to MHCLG Local Government | C44: -115 | D44: =SUM(B44:C44) -> -115
A45: Marginal Platform Costs to FCDO | C45: -60.6 | D45: =SUM(B45:C45) -> -60.6
A46: Clear Asylum Backlogs to MoJ | C46: -47.2 | D46: =SUM(B46:C46) -> -47.2
A47: Technical Assistance for Law Enforcement to SIA GCHQ | C47: -19.4 | D47: =SUM(B47:C47) -> -19.4 | E47: -17
A48: Tackle Controlling and Coercive Behaviours to Moj | C48: -13.6 | D48: =SUM(B48:C48) -> -13.6
A49: Joint International Crime Centre to NCA | C49: -11.5 | D49: =SUM(B49:C49) -> -11.5 | E49: -3.3
A50: Health Care for Detainees to DHSC | C50: =-10-2 -> -12 | D50: =SUM(B50:C50) -> -12
A51: Employer National Insurance Contribution to NCA | C51: -6.3 | D51: =SUM(B51:C51) -> -6.3
A52: Missions Campaign to CO | C52: -5.8 | D52: =SUM(B52:C52) -> -5.8
A53: Child Sexual Abuse Strategy to SIA GCHQ | C53: -4.3 | D53: =SUM(B53:C53) -> -4.3
A54: Offensive Weapons Act to MoJ | C54: -4.2 | D54: =SUM(B54:C54) -> -4.2
A55: Pre-charge Bail to MoJ | C55: -3.5 | D55: =SUM(B55:C55) -> -3.5
A56: Anti-Money Laundering and Asset Recovery to SIA GCHQ | C56: -3.1 | D56: =SUM(B56:C56) -> -3.1
...
