Workbook
Name Supps_Barnett: #REF!

Sheet 3.1 SG CTS
B2: 3.1 Comparison of cash grant payable to the Scotland Consolidated Fund
B4: Spending Total: amounts sought this year | D4: Comparison: Supplementary Estimates 2023-24 | F4: Comparison: Main Estimates 2023-24
B5: Budget Type | C5: Main Estimates 2024-25 (£m) | D5: Change (£m) | E5: % change | F5: Change (£m) | G5: % change
B6: Scottish Consolidated Fund: Non-Budget expenditure | C6: ='3.3a Cash Grant'!C39 -> 27954.959 | D6: =SUM(C6-31132.6335138226) -> -3177.6749 | E6: =D6/C6 -> -0.11367124 | F6: =SUM(C6-29859.971) -> -1905.0123 | G6: =F6/C6 -> -0.068145776
B7: The level of UK Government funding for the Scottish Government in 2024-25 was largely determined at Spending Review 2021. The Statement of Funding Policy document sets out how the Barnett formula was applied.

Sheet 3.3a Cash Grant
B2: 3.3 (a) Cash grant payable to the Scotland Consolidated Fund 2024-25
B4: £ million | C4: sub total | E4: Comments:
B5: Scottish Government block grant (DEL) | C5: =SUM('3.4 (a) Resource Changes'!I162+'3.4 (b) Capital Changes'!G46) -> 31402.262 | E5: see 3.4 (b) control totals table
B6: UK Government funded AME | C6: =SUM('3.3 (b) Control Totals'!D30) -> 4336.117 | E6: see 3.4 (b) control totals table
B7: Fiscal Framework transactions | C7: =SUM('3.3 (b) Control Totals'!D41) -> 21854.496 | E7: see 3.4 (b) control totals table
B8: Non-Domestic Rates | C8: ='[1]2024-25 Main Estimate'!F8 -> 3068
B9: subtotal (TOTAL MANAGED EXPENDITURE) | C9: =SUM(C5:C8) -> 60660.875
B10: add
B11: Repayments of principal to National Loans Fund of pre 1999 loans to former Scottish Water Authorities | C11: 42.776
B12: Police Loan Charges | C12: 3.477
B13: Movement in Creditors / Debtors | C13: 700
B14: subtotal | C14: =SUM(C11:C13) -> 746.253
B15: less
B16: Non Domestic Rates Income | C16: 3068
B17: National Insurance Fund Payments | C17: 2844.5294
B18: subtotal | C18: =SUM(C16:C17) -> 5912.5294
B19: less
B20: Taxes collected by Scottish Government | C20: 788.71365
B21: Scottish Income Tax | C21: 18844.082
B22: Reconciliation adjustment for Scottish Income Tax | C22: 1461.1
B23: Capital Borrowing | C23: 338
B24: Resource Borrowing | C24: 457.5
B25: Repayment of principal of loans | C25: -264.9
B26: Crown Estate Scotland revenues | C26: 200
B27: Other Fiscal Framework transactions | C27: 30
B28: subtotal | C28: =SUM(C20:C27) -> 21854.496
B29: less
B30: Depreciation (Scottish Government Funded AME) | C30: 944.82966
B31: Depreciation (UK Government Funded AME) | C31: 3.491
B32: Impairments (Scottish Government Funded AME) | C32: 908.24215
B33: Impairments (UK Government Funded AME) | C33: 100
B34: IFRS16 working capital adjustment | C34: 158.41114
B35: Resource to cash adjustments for NHS and Teachers Pensions (UK Government Funded AME) | C35: 3438.406
B36: Payments relating to release of provisions (AME) | C36: 0
B37: Other cash to accruals adjustments | C37: =141.457-9.693 -> 131.764
B38: subtotal | C38: =SUM(C30:C37) -> 5685.1439
B39: CASH GRANT PAYABLE TO SCOTLAND CONSOLIDATED FUND | C39: =SUM(C9+C14-C18-C28-C38) -> 27954.959
B40: PAYOVER OF INCOME TAX | C40: =SUM(C21+C22) -> 20305.182
B41: TOTAL CASH REQUIREMENT | C41: =SUM(C39:C40) -> 48260.141

Sheet 3.3 (b) Control Totals
B2: 3.3 (b) Control totals for the Scottish Government in 2024-25 including breakdown of main programme of AME spending
B4: 1. Scottish Government DEL Control Total
B5: £ millions | D5: 2024-25 | E5: Comments:
B6: Total Resource DEL of which: | D6: ='3.4 (a) Resource Changes'!I162 -> 25772.482 | E6: *Post block grant adjustments
B7: RDEL excluding depreciation | D7: ='3.4 (a) Resource Changes'!E162 -> 38346.309 | E7: see 3.4 (c) funding changes table
B8: Block Grant Adjustment (BGA) [1] | D8: ='3.4 (a) Resource Changes'!H162 -> -14676.992 | E8: see 3.4 (c) funding changes table
B9: depreciation and impairments ring fence | D9: ='3.4 (a) Resource Changes'!F162 -> 1194.9234 | E9: see 3.4 (c) funding changes table
B10: student loans ring fence in DEL | D10: ='3.4 (a) Resource Changes'!G162 -> 908.242 | E10: see 3.4 (c) funding changes table
B11: Total Capital DEL of which: | D11: ='3.4 (b) Capital Changes'!G46 -> 5629.7804 | E11: see 3.4 (c) funding changes table
B12: General CDEL | D12: ='3.4 (b) Capital Changes'!E46 -> 5506.5822 | E12: see 3.4 (c) funding changes table
B13: Ring fenced financial transactions | D13: ='3.4 (b) Capital Changes'!F46 -> 123.19824 | E13: see 3.4 (c) funding changes table
B14: Total Scottish Government block grant allocation | D14: =D11+D6 -> 31402.262 | E14: sum of the above
B16: 2. Scottish Government Annually Managed Expenditure funded by the UK Government
B17: £ millions | E17: Comments:
B18: Student Loans (CAME) | D18: 865 | E18: see 3.4(a) cash grant table
B19: Student Loans (RAME) | D19: -60.893 | E19: see 3.4(a) cash grant table
B20: NHS Pensions (Scotland) - [Net resource requirement] (RAME) | D20: 2186.669 | E20: see 3.4(a) cash grant table
B21: Teachers Pensions (Scotland) - [Net resource requirement] (RAME) | D21: 1235.737 | E21: see 3.4(a) cash grant table
B22: NHS Impairments (RAME) | D22: 100 | E22: see 3.4(a) cash grant table
B23: IFRS 16 technical reclassification (RAME) | D23: 0.789
B24: IFRS 16 technical reclassification (CAME) | D24: 2.974
B25: Provisions (RAME) | D25: 0 | E25: see 3.4(a) cash grant table
B26: Impairments (RAME) | D26: 0 | E26: see 3.4(a) cash grant table
B27: Pensions (RAME) | D27: 2.35 | E27: see 3.4(a) cash grant table
B28: Corporation tax (RAME) | D28: 0 | E28: see 3.4(a) cash grant table
B29: Depreciation (RAME) | D29: 3.491 | E29: see 3.4(a) cash grant table
B30: Subtotal | D30: =SUM(D18:D29) -> 4336.117
B31: 3. Self-financed Annually Managed Expenditure
B32: £ millions | E32: Comments:
B33: Drawdown from the Scotland Reserve | D33: 0 | E33: see 3.4(a) cash grant table
B34: Scottish Income Tax | D34: 18844.082 | E34: see 3.4(a) cash grant table
B35: Reconciliation adjustment for Scottish Income Tax | D35: 1461.1 | E35: see 3.4(a) cash grant table
B36: Devolved Taxes | D36: 788.71365 | E36: see 3.4(a) cash grant table
B37: Borrowing | D37: 795.5 | E37: see 3.4(a) cash grant table
B38: Repayment of principal of loans | D38: -264.9
B39: Crown Estate Scotland revenues | D39: 200
B40: Other Fiscal Framework transactions | D40: 30
B41: Subtotal | D41: =SUM(D33:D40) -> 21854.496
B42: TOTAL UK Government and Scottish Government funded AME | D42: =SUM(D30+D41) -> 26190.613 | E42: sum of (2) and (3)
B44: [1] Block Grant Adjustment includes the sum of tax and welfare Block Grant Adjustments

Sheet 3.4 (a) Resource Changes
B2: 3.4 (a) Resource DEL funding changes since Spending Review 2021
E3: Resource DEL excl depreciation | F3: depreciation & impairments | G3: student loans | H3: Block Grant Adjustments | I3: total Resource DEL
B4: Spending Review 2021 Baseline | E4: 30851.073 | F4: 932.4857 | G4: 1585.803 | H4: -12874.468 | I4: =SUM(E4:H4) -> 20494.893
B6: Barnett consequentials
B7: £ million / Event | C7: Department | D7: Measures | E7: Resource DEL excl depreciation | F7: depreciation & impairments | G7: student loans | H7: Block Grant Adjustments | I7: total Resource DEL
B9: Spending Review 2021 | C9: Multiple | D9: SR21 settlement | E9: 4724.7907 | F9: 0 | G9: 0 | H9: 0 | I9: =SUM(E9:H9) -> 4724.7907
B10: Subtotal Spending Review 2021 | E10: =SUM(E9) -> 4724.7907 | F10: =SUM(F9) -> 0 | G10: =SUM(G9) -> 0 | H10: =SUM(H9) -> 0 | I10: =SUM(E10:H10) -> 4724.7907
B12: Spring Statement 2022 | C12: Department for Work and Pensions | D12: Debt Enforcement Function | E12: 0.78713693 | F12: 0 | G12: 0 | H12: 0 | I12: =SUM(E12:H12) -> 0.78713693
C13: Department for Education | D13: Student Finance for Higher Technical Qualifications | E13: 0 | F13: 1.9331518 | G13: 0 | H13: 0 | I13: =SUM(E13:H13) -> 1.9331518
B14: Subtotal Spring Statement 2022 | E14: =SUM(E12:E13) -> 0.78713693 | F14: =SUM(F12:F13) -> 1.9331518 | G14: =SUM(G12:G13) -> 0 | H14: =SUM(H12:H13) -> 0 | I14: =SUM(E14:H14) -> 2.7202887
B16: Autumn Statement 2022 | C16: Department of Health and Social Care | D16: NICs reversal | E16: -1.3464241 | F16: 0 | G16: 0 | H16: 0 | I16: =SUM(E16:H16) -> -1.3464241
D17: NICs reversal | E17: -56.261293 | F17: 0 | G17: 0 | H17: 0 | I17: =SUM(E17:H17) -> -56.261293
D18: Additional funding for NHS (Autumn Statement 2022) | E18: 318.97004 | F18: 0 | G18: 0 | H18: 0 | I18: =SUM(E18:H18) -> 318.97004
D19: ACS package | E19: 48.328795 | F19: 0 | G19: 0 | H19: 0 | I19: =SUM(E19:H19) -> 48.328795
C20: Department for Education | D20: NICs reversal | E20: -0.50772607 | F20: 0 | G20: 0 | H20: 0 | I20: =SUM(E20:H20) -> -0.50772607
D21: NICs reversal | E21: -31.761575 | F21: 0 | G21: 0 | H21: 0 | I21: =SUM(E21:H21) -> -31.761575
D22: Core Schools Budget uplift | E22: 225.07675 | F22: 0 | G22: 0 | H22: 0 | I22: =SUM(E22:H22) -> 225.07675
C23: Home Office | D23: NICs reversal | E23: -8.5877425 | F23: 0 | G23: 0 | H23: 0 | I23: =SUM(E23:H23) -> -8.5877425
C24: Ministry of Justice | D24: NICs reversal | E24: -3.5567785 | F24: 0 | G24: 0 | H24: 0 | I24: =SUM(E24:H24) -> -3.5567785
C25: Department for Levelling Up, Housing and Communities: Local Government | D25: NICs reversal | E25: -18.547046 | F25: 0 | G25: 0 | H25: 0 | I25: =SUM(E25:H25) -> -18.547046
D26: LGDEL: Grant funding for Local Government elements of Adult Social Care package | E26: 114.36836 | F26: 0 | G26: 0 | H26: 0 | I26: =SUM(E26:H26) -> 114.36836
C27: Department for Work and Pensions | D27: NICs reversal | E27: -0.49029972 | F27: 0 | G27: 0 | H27: 0 | I27: =SUM(E27:H27) -> -0.49029972
C28: HM Revenue and Customs | D28: NICs reversal | E28: -0.087275943 | F28: 0 | G28: 0 | H28: 0 | I28: =SUM(E28:H28) -> -0.087275943
C29: Department for Transport | D29: NICs reversal | E29: -1.8409905 | F29: 0 | G29: 0 | H29: 0 | I29: =SUM(E29:H29) -> -1.8409905
C30: Department for Business, Energy and Industrial Strategy | D30: NICs reversal | E30: -0.043209232 | F30: 0 | G30: 0 | H30: 0 | I30: =SUM(E30:H30) -> -0.043209232
C31: Levelling up, Housing and Communities | D31: NICs reversal | E31: -0.23716716 | F31: 0 | G31: 0 | H31: 0 | I31: =SUM(E31:H31) -> -0.23716716
C32: Department for Environment, Food and Rural Affairs | D32: NICs reversal | E32: -0.92360893 | F32: 0 | G32: 0 | H32: 0 | I32: =SUM(E32:H32) -> -0.92360893
C33: Small and Independent Bodies | D33: NICs reversal | E33: -0.42610382 | F33: 0 | G33: 0 | H33: 0 | I33: =SUM(E33:H33) -> -0.42610382
C34: Law Officer's Department | D34: NICs reversal | E34: -0.43956842 | F34: 0 | G34: 0 | H34: 0 | I34: =SUM(E34:H34) -> -0.43956842
C35: Department for Digital, Culture, Media and Sport | D35: NICs reversal | E35: -0.46684851 | F35: 0 | G35: 0 | H35: 0 | I35: =SUM(E35:H35) -> -0.46684851
C36: Business rates | D36: Multiplier freeze 23-24 | E36: 186.40013 | F36: 0 | G36: 0 | H36: 0 | I36: =SUM(E36:H36) -> 186.40013
D37: Transitional relief | E37: 35.901351 | F37: 0 | G37: 0 | H37: 0 | I37: =SUM(E37:H37) -> 35.901351
D38: Supporting small business | E38: 18.13238 | F38: 0 | G38: 0 | H38: 0 | I38: =SUM(E38:H38) -> 18.13238
B39: Subtotal Autumn Statement 2022 | E39: =SUM(E16:E38) -> 821.65416 | F39: =SUM(F16:F38) -> 0 | G39: =SUM(G16:G38) -> 0 | H39: =SUM(H16:H38) -> 0 | I39: =SUM(I16:I38) -> 821.65416
B41: Spring Budget 2023 | C41: Department of Health and Social Care | D41: Work and Health: IPS | E41: 1.3569766 | F41: 0 | G41: 0 | H41: 0 | I41: =SUM(E41:H41) -> 1.3569766
D42: Work and Health: Employment advice in MSK | E42: 0.38770761 | F42: 0 | G42: 0 | H42: 0 | I42: =SUM(E42:H42) -> 0.38770761
D43: Digitise NHS Health Check | E43: 0.96926903 | F43: 0 | G43: 0 | H43: 0 | I43: =SUM(E43:H43) -> 0.96926903
D44: Digital Mental Health Hub & digitising IAPT pilot & Levelling up IAPT | E44: 4.3617106 | F44: 0 | G44: 0 | H44: 0 | I44: =SUM(E44:H44) -> 4.3617106
D45: Open access to MSK tools/apps | E45: 0.96926903 | F45: 0 | G45: 0 | H45: 0 | I45: =SUM(E45:H45) -> 0.96926903
D46: Work and Health: Scaling up MSK hubs | E46: 0.29078071 | F46: 0 | G46: 0 | H46: 0 | I46: =SUM(E46:H46) -> 0.29078071
...

Sheet 3.4 (b) Capital Changes
B2: 3.4 (b) Capital DEL funding changes since Spending Review 2021
E3: Capital DEL excl financial transactions | F3: financial transactions DEL | G3: total Capital DEL
B4: Spending Round 2021 Baseline | E4: 4052.009 | F4: 392.58607 | G4: =SUM(E4:F4) -> 4444.5951
B6: Barnett consequentials
B7: £ million/Event | C7: Department | D7: Measures | E7: Capital DEL excl financial transactions | F7: financial transactions DEL | G7: total Capital DEL
B8: Spending Review 2021 | C8: Multiple | E8: 637.91825 | F8: -216.54983 | G8: =SUM(E8:F8) -> 421.36842
B10: Spring Budget 23 | C10: Department for Digital, Culture, Media and Sport | D10: Charities (DCMS) | E10: 1.2115863 | F10: 0 | G10: =SUM(E10:F10) -> 1.2115863
B11: Subtotal Spring Budget 23 | E11: =SUM(E10) -> 1.2115863 | F11: =SUM(F10) -> 0 | G11: =SUM(E11:F11) -> 1.2115863
B13: Autumn Statement 2023 | C13: Department for Levelling Up, Housing and Communities: Local Government | D13: Local Authority Housing Fund | E13: 9.6926903 | F13: 0 | G13: =SUM(E13:F13) -> 9.6926903
B14: Subtotal Autumn Statement 2023 | E14: =SUM(E13) -> 9.6926903 | F14: =SUM(F13) -> 0 | G14: =SUM(E14:F14) -> 9.6926903
B16: Main Estimates 2024-25 | C16: Department for Levelling Up, Housing and Communities: Communitie | D16: Shared Outcomes Fund (Changing Futures) | E16: 0.070756639 | F16: 0 | G16: =SUM(E16:F16) -> 0.070756639
C17: Department for Digital, Culture, Media and Sport | D17: R&D- NHM Unlocked | E17: -2.5808175 | F17: 0 | G17: =SUM(E17:F17) -> -2.5808175
C18: Department for Education | D18: Shared Outcomes Fund 2 - Data improvement across government | E18: 0.0029078071 | F18: 0 | G18: =SUM(E18:F18) -> 0.0029078071
C19: Department for Health and Social Care | D19: Shared Outcomes Fund - UKHSA National Biosurveillance Network | E19: 0.84423333 | F19: 0 | G19: =SUM(E19:F19) -> 0.84423333
D20: Shared Outcomes Fund - Understanding the Impacts of COVID-19 | E20: 0.03004734 | F20: 0 | G20: =SUM(E20:F20) -> 0.03004734
C21: Ministry of Justice | D21: Shared Outcomes Fund - BOLD CDEL | E21: 0.11301258 | F21: 0 | G21: =SUM(E21:F21) -> 0.11301258
C22: Department for Science, Innovation and Technology | D22: HMT ODA Budget Surrender | E22: -0.10666154 | F22: 0 | G22: =SUM(E22:F22) -> -0.10666154
C23: Department for Work and Pensions | D23: Reserve claim: Labour Market Evaluation Pilot: Jobs Plus (CDEL) | E23: 0.016477574 | F23: 0 | G23: =SUM(E23:F23) -> 0.016477574
C24: Small and Independent Bodies | D24: Delivery Authority grant | E24: -0.032815251 | F24: 0 | G24: =SUM(E24:F24) -> -0.032815251
D25: Future Population, Migration and Social Statistics (FPMS) Programme funding (CDEL) | E25: 0.35649497 | F25: 0 | G25: =SUM(E25:F25) -> 0.35649497
B26: Subtotal Main Estimates 2024-25 | E26: =SUM(E16:E25) -> -1.286364 | F26: =SUM(F16:F25) -> 0 | G26: =SUM(E26:F26) -> -1.286364
B28: Total, Barnett consequentials | E28: =SUM(E8+E11+E14+E26) -> 647.53616 | F28: =SUM(F8+F11+F14+F26) -> -216.54983 | G28: =SUM(G8+G11+G14+G26) -> 430.98633
B30: Other non-Barnett allocations
B31: Spending Review 2021 | C31: Capital DEL | D31: Network Rail | E31: 632 | F31: 0 | G31: =SUM(E31:F31) -> 632
B32: Subtotal Spending Review 2021 | E32: =E31 -> 632 | F32: =F31 -> 0 | G32: =G31 -> 632
B34: Autumn Statement 22 | C34: Capital DEL | D34: IFRS16 | E34: 117.279 | F34: 0 | G34: =SUM(E34:F34) -> 117.279
B35: Subtotal Autumn Statement 22 | E35: =SUM(E34:E34) -> 117.279 | F35: =SUM(F34:F34) -> 0 | G35: =SUM(E35:F35) -> 117.279
B37: Main Estimates 2024-25 | C37: Capital_DEL_General | D37: Carry forward to 2024-25. | E37: 14.758 | F37: 0 | G37: =SUM(E37:F37) -> 14.758
C38: Capital_DEL_General | D38: Transfer from HMT in respect of Network Rail Funding. | E38: 38 | F38: 0 | G38: =SUM(E38:F38) -> 38
C39: Capital_DEL_General | D39: Reserve Claim from HMT in respect of City Regional Deals (Forthside Land Transfer). | E39: 5 | F39: 0 | G39: =SUM(E39:F39) -> 5
C40: Capital_DEL_FT | D40: FTs flexibilities. | E40: 0 | F40: -52.838 | G40: =SUM(E40:F40) -> -52.838
B41: Subtotal Main Estimates 2024-25 | E41: =SUM(E37:E40) -> 57.758 | F41: =SUM(F37:F40) -> -52.838 | G41: =SUM(G37:G40) -> 4.92
B43: Total, Non-Barnett allocations | E43: =SUM(E32+E35+E41) -> 807.037 | F43: =SUM(F32+F35+F41) -> -52.838 | G43: =SUM(G32+G35+G41) -> 754.199
B45: Total, 2024-25 changes | E45: =SUM(E28+E43) -> 1454.5732 | F45: =SUM(F28+F43) -> -269.38783 | G45: =SUM(G28+G43) -> 1185.1853
B46: Total, revised CDEL | E46: =SUM(E4+E45) -> 5506.5822 | F46: =SUM(F4+F45) -> 123.19824 | G46: =SUM(G4+G45) -> 5629.7804

Sheet 3.5 SG Trends
B2: 3.5 Scottish Government DEL Funding 2019-20 to 2024-25
C4: 2019-20 | D4: 2020-21 | E4: 2021-22 | F4: 2022-23 | G4: 2023-24 | H4: 2024-25
B5: £m[1] | C5: Outturn | D5: Outturn | E5: Outturn | F5: Plans | G5: Plans | H5: Plans
B6: Scottish Government Resource DEL (pre Block Grant Adjustments) | C6: 29639.45 | D6: 39912.334 | E6: 37471.309 | F6: 38097.06 | G6: 40131.297 | H6: =SUM('3.4 (a) Resource Changes'!I162-'3.4 (a) Resource Changes'!H162) -> 40449.474
B7: Tax Block Grant Adjustment | C7: -12193.079 | D7: -12056.609 | E7: -12223.335 | F7: -14878.012 | G7: -15696.588 | H7: -19886.433
B8: Welfare Block Grant Adjustment | C8: 289.6 | D8: 3181.625 | E8: 3309.309 | F8: 3724.866 | G8: 4435.078 | H8: 5209.4402
B9: Scottish Government Resource DEL (post Block Grant Adjustments) | C9: 17735.971 | D9: 31037.35 | E9: 28557.283 | F9: 26943.914 | G9: 28869.787 | H9: =SUM(H6:H8) -> 25772.482
B10: Scottish Government Capital DEL | C10: 4260.497 | D10: 5230.499 | E10: 5224.299 | F10: 6412.37 | G10: 6423.5601 | H10: ='3.4 (b) Capital Changes'!G46 -> 5629.7804
B11: Scottish Government Resource DEL plus Capital DEL [2] | C11: 21996.468 | D11: 36267.849 | E11: 33781.582 | F11: 33356.284 | G11: 35293.347 | H11: =SUM(H9:H10) -> 31402.262
B12: less depreciation & impairments | C12: -1018.614 | D12: -1060.015 | E12: -532.758 | F12: -2087.5475 | G12: -2522.6047 | H12: =SUM(-'3.4 (a) Resource Changes'!F162-'3.4 (a) Resource Changes'!G162) -> -2103.1654
B13: Total Scottish Government DEL[3] | C13: 20977.854 | D13: 35207.834 | E13: 33248.824 | F13: 31268.736 | G13: 32770.742 | H13: =SUM(H11:H12) -> 29299.097
B15: [1] Totals may not sum due to rounding
B16: [2] Including depreciation and impairments
B17: [3] Total DEL = Resource + capital – (depreciation & impairments)

Sheet BGT
B1: Table 1.2 Welsh Government block grant funding for the Spending Review 2015 period (£ million)¹
C2: £ million
B3: DEL changes by department and measure
C4: 2020-21
B5: SPENDING REVIEW 2015 OUTCOME
B6: Resource DEL | C6: -
B7: Capital DEL | C7: 1649.1464
B8: Capital DEL Financial Transactions | C8: 84.310299
B9: Total Spending Review Settlement | C9: 1733.4567
B11: BUDGET 2016
B12: Total DEL change Budget 2016 | C12: -
B14: MAIN ESTIMATES 2016-17
B15: Total Resource DEL in-year changes | C15: -
B16: Total Capital DEL in-year changes | C16: 0
B17: Total DEL in-year changes Main Estimates 2016-17 | C17: 0
B19: AUTUMN STATEMENT 2016
B20: Capital DEL change by department and measure
B21: Total Barnett Consequentials | C21: 133.64352
B22: Business, Energy & Industrial Strategy | C22: 6.1803238
B23: Tech Transfer | C23: 1.415
B24: Quality-related Research funding | C24: 4.7653238
B25: Communities & Local Government | C25: 93.107
B26: Accelerated construction | C26: 18.112
B27: Affordable housing | C27: 7.075
B28: Housing Infrastructure Fund | C28: 67.92
B29: Culture, Media & Sport | C29: 0.3962
B30: 2021 Rugby League World Cup | C30: 0.1415
B31: Cycling Road World Championships | C31: 0.2547
B32: Education | C32: 2.83
... B37: Total Capital DEL change Autumn Statement 2016 | C37: 133.64352
B38: Capital DEL Financial Transactions change
B39: Total Barnett Consequentials | C39: 1.193128
B40: Business, Energy & Industrial Strategy
B41: Midlands Engine Investment Fund | C41: 0.966728
B42: Northern Power House: Investment Fund | C42: 0.2264
B43: Total Capital DEL Financial Transactions change Autumn Statement 2016 | C43: 1.193128
B44: Total DEL change Budget 2016 | C44: 134.83665
B46: SPRING BUDGET 2017
B47: Capital DEL change by department and measure
B48: Total Barnett Consequentials | C48: -
...
